BEGIN:VCALENDAR
VERSION:2.0
CALSCALE:GREGORIAN
PRODID:adamgibbons/ics
METHOD:PUBLISH
X-PUBLISHED-TTL:PT1H
BEGIN:VEVENT
UID:3@tricity.dance
SUMMARY:Potańcówka w stylu "Wielkiego Gatsby" z muzyką na żywo
DTSTAMP:20260421T063037Z
DTSTART:20240308T180000Z
DTEND:20240308T220000Z
DESCRIPTION:Zapraszamy na imprezę w stylu Wielkiego Gatsbiego. Na naszej po
	tańcówce zagra\nnasz ulubiony Riverboat Ramblers Swing Orchestra\n[https:/
	/www.facebook.com/profile.php?id=100067220794531&__cft__[0]=AZXStYTJaXuhxZ
	uLRWDUKPi6cSoP6i6JMeVbvGHvnRq9nznthOfd5sLB-3VwzqjcGgspt9J0tfUTiLazCXj1LzwU
	VfPUkIrkRJEWm_TSi3oIt77hYddOcpwKBK6X2rlC5e1xiCozdNaPiHr4ai3oRZ3U&__tn__=-]
	K-R].\n\nW sobotę i niedzielę zapraszamy na warsztaty tematyczne.\n\nWstęp
	 wolny
URL:https://tricity.dance/event/potancowka-w-stylu-wielkiego-gatsby-z-muzyk
	a-na-zywo
LOCATION:Centrum kultury Mamuszki 14 - Mamuszki 14\, Sopot\, Poland\, 81-71
	8
STATUS:CONFIRMED
CATEGORIES:Muzyka na żywo,Sopot,Swing,Lindy hop
X-ALT-DESC;FMTTYPE=text/html:<p>Zapraszamy na imprezę w stylu Wielkiego Gat
	sbiego. Na naszej potańcówce zagra nasz ulubiony <a target="_blank" href="
	https://www.facebook.com/profile.php?id=100067220794531&amp;__cft__[0]=AZX
	StYTJaXuhxZuLRWDUKPi6cSoP6i6JMeVbvGHvnRq9nznthOfd5sLB-3VwzqjcGgspt9J0tfUTi
	LazCXj1LzwUVfPUkIrkRJEWm_TSi3oIt77hYddOcpwKBK6X2rlC5e1xiCozdNaPiHr4ai3oRZ3
	U&amp;__tn__=-]K-R">Riverboat Ramblers Swing Orchestra</a>.</p><p>W sobotę
	 i niedzielę zapraszamy na warsztaty tematyczne.</p><p>Wstęp wolny</p>
END:VEVENT
END:VCALENDAR
